BEGIN:VCALENDAR
VERSION:2.0
PRODID:-//urwahl3000//gruene-neubiberg.de//DE
CALSCALE:GREGORIAN
BEGIN:VEVENT
DTSTART:20240318T190000
DTEND:20240318T210000
LOCATION:Haus der Weiterbildung\, Saal Neubiberg
DTSTAMP:20240318T190000
SUMMARY:Gemeinderat
URL;VALUE=URI:https://gruene-neubiberg.de/termin/gemeinderat-4/
DESCRIPTION:<a href="https://buergerinfo-neubiberg.digitalfabrix.de/info.asp">Weitere Informationen gibt es hier. </a>
UID:20240318T190000-20240318T190000-20240318T210000
END:VEVENT
END:VCALENDAR